Workbook

Sheet Recruitments 
O3: Voice Mail
O4: Call Back
O5: Not Interested
O6: Appointment
O7: Client
A9: Nr. | B9: Surname | C9: Name | D9: Mobile | E9: Age | F9: Marital status | G9: Kids | H9: Job | I9: Mail | J9: Region | K9: Recommended by | L9: Relation - band | M9: Warm/Cold | N9: Not processed / Processed | O9: VM / CB / NI / A / Client | P9: Comment
A10: 1
A11: =A10+1 -> 2
A12: =A11+1 -> 3
A13: =A12+1 -> 4
A14: =A13+1 -> 5
A15: =A14+1 -> 6
A16: =A15+1 -> 7
A17: =A16+1 -> 8
A18: =A17+1 -> 9
A19: =A18+1 -> 10
A20: =A19+1 -> 11
A21: =A20+1 -> 12
A22: =A21+1 -> 13
... A1009: =A1008+1 -> 1000

Sheet Investors
A1: Nr. | B1: Surname | C1: Name | D1: Mobile | E1: Age | F1: Marital status | G1: Kids | H1: Job | I1: Mail | J1: Region | K1: Recommended by | L1: Relatie - band | M1: Warm/Cold | N1: Not processed / Processed | O1: VM / CB / NI / A / Client | P1: Comment
A2: 1
A3: =A2+1 -> 2
A4: =A3+1 -> 3
A5: =A4+1 -> 4
A6: =A5+1 -> 5
A7: =A6+1 -> 6
A8: =A7+1 -> 7
A9: =A8+1 -> 8
A10: =A9+1 -> 9
A11: =A10+1 -> 10
A12: =A11+1 -> 11
A13: =A12+1 -> 12
A14: =A13+1 -> 13
... A1001: =A1000+1 -> 1000

Sheet Merchants 
A1: Nr. | B1: Surname | C1: Name | D1: Mobile | E1: Age | F1: Marital status | G1: Kids | H1: Job | I1: Mail | J1: Region | K1: Recommended by | L1: Relatie - band | M1: Warm/Cold | N1: Not processed / Processed | O1: VM / CB / NI / A / Client | P1: Comment
A2: 1 | O2: Voice Mail
A3: =A2+1 -> 2 | O3: Call Back
A4: =A3+1 -> 3 | O4: Not Interested
A5: =A4+1 -> 4 | O5: Appointment
A6: =A5+1 -> 5 | O6: Client
A7: =A6+1 -> 6
A8: =A7+1 -> 7
A9: =A8+1 -> 8
A10: =A9+1 -> 9
A11: =A10+1 -> 10
A12: =A11+1 -> 11
A13: =A12+1 -> 12
A14: =A13+1 -> 13
A15: =A14+1 -> 14
A16: =A15+1 -> 15
A17: =A16+1 -> 16
A18: =A17+1 -> 17
... A220: =A219+1 -> 219

Sheet Lead Status
A1: ADVIES NAMEN
A2: Totaal | C2: =COUNTA('Recruitments '!M10:M1009) -> 0
A3: Bewerkt | B3: Voicemail | C3: =COUNTIF('Recruitments '!O3:O1010,"vm") -> 0
B4: Terugbellen | C4: =COUNTIF('Recruitments '!O3:O1010,"tb") -> 0
B5: Geen interesse | C5: =COUNTIF('Recruitments '!O3:O1010,"gi") -> 0
B6: AG | C6: =COUNTIF('Recruitments '!O4:O1011,"ag") -> 0
B7: Klant | C7: =COUNTIF('Recruitments '!O3:O1010,"klant") -> 0
A8: Onbewerkt | C8: =COUNTIF('Recruitments '!N10:N1010,"onbewerkt") -> 0
A11: Recruteringsnamen
A12: Totaal | C12: =COUNTA(Investors!M2:M1001) -> 0
A13: Bewerkt | B13: Voicemail | C13: =COUNTIF(Investors!O2:O1001,"vm") -> 0
B14: Terugbellen | C14: =COUNTIF(Investors!O2:O1001,"tb") -> 0
B15: Geen interesse | C15: =COUNTIF(Investors!O2:O1001,"gi") -> 0
B16: RG | C16: =COUNTIF(Investors!O3:O1002,"rg") -> 0
B17: dossier | C17: =COUNTIF(Investors!O2:O1001,"dossier") -> 0
A18: Onbewerkt | C18: =COUNTIF(Investors!N2:N1002,"onbewerkt") -> 0
